BEGIN:VCALENDAR
VERSION:2.0
PRODID:-//eventon.com NONSGML v1.0//EN
CALSCALE:GREGORIAN
METHOD:PUBLISH
BEGIN:VEVENT
UID:69e63c649142d
DTSTAMP:20260420T144700Z
DTSTART:20260703
DTEND:20260704
LOCATION:
SUMMARY:97941 Tauberbischofsheim - Stadtfest
DESCRIPTION:\nhttps://andref.de/events/97941-tauberbischofsheim-stadtfest-2
 026/
URL:https://andref.de/events/97941-tauberbischofsheim-stadtfest-2026/
END:VEVENT
END:VCALENDAR